BEGIN:VCALENDAR
VERSION:2.0
PRODID:-//Noblesville Youth Sports Alliance - ECPv6.15.20//NONSGML v1.0//EN
CALSCALE:GREGORIAN
METHOD:PUBLISH
X-ORIGINAL-URL:https://noblesvillesports.com
X-WR-CALDESC:Events for Noblesville Youth Sports Alliance
REFRESH-INTERVAL;VALUE=DURATION:PT1H
X-Robots-Tag:noindex
X-PUBLISHED-TTL:PT1H
BEGIN:VTIMEZONE
TZID:America/New_York
BEGIN:DAYLIGHT
TZOFFSETFROM:-0500
TZOFFSETTO:-0400
TZNAME:EDT
DTSTART:20250309T070000
END:DAYLIGHT
BEGIN:STANDARD
TZOFFSETFROM:-0400
TZOFFSETTO:-0500
TZNAME:EST
DTSTART:20251102T060000
END:STANDARD
BEGIN:DAYLIGHT
TZOFFSETFROM:-0500
TZOFFSETTO:-0400
TZNAME:EDT
DTSTART:20260308T070000
END:DAYLIGHT
BEGIN:STANDARD
TZOFFSETFROM:-0400
TZOFFSETTO:-0500
TZNAME:EST
DTSTART:20261101T060000
END:STANDARD
BEGIN:DAYLIGHT
TZOFFSETFROM:-0500
TZOFFSETTO:-0400
TZNAME:EDT
DTSTART:20270314T070000
END:DAYLIGHT
BEGIN:STANDARD
TZOFFSETFROM:-0400
TZOFFSETTO:-0500
TZNAME:EST
DTSTART:20271107T060000
END:STANDARD
BEGIN:DAYLIGHT
TZOFFSETFROM:-0500
TZOFFSETTO:-0400
TZNAME:EDT
DTSTART:20280312T070000
END:DAYLIGHT
BEGIN:STANDARD
TZOFFSETFROM:-0400
TZOFFSETTO:-0500
TZNAME:EST
DTSTART:20281105T060000
END:STANDARD
END:VTIMEZONE
BEGIN:VEVENT
DTSTART;VALUE=DATE:20261103
DTEND;VALUE=DATE:20270129
DTSTAMP:20260424T234946
CREATED:20260224T225415Z
LAST-MODIFIED:20260224T225415Z
UID:415-1793664000-1801180799@noblesvillesports.com
SUMMARY:Noblesville Wrestling Club - Youth Wrestling Season
DESCRIPTION:Noblesville Wrestling Club\nYouth Wrestling 2026-2027 Season\nGrades K – 6th \nRegistration opens: 10/8/26\nRegistration closes: 11/5/26 \nSeason starts: 11/3/26\nSeason ends: 1/28/27 \nRegistration link: https://noblesville-wrestling-club.sportngin.com/page/show/6006646-registration
URL:https://noblesvillesports.com/event/noblesville-wrestling-club-youth-wrestling-season/
LOCATION:Noblesville High School\, 18111 Cumberland Rd\, Noblesville\, IN\, 46060\, United States
CATEGORIES:Wrestling
END:VEVENT
END:VCALENDAR