BEGIN:VCALENDAR
VERSION:2.0
PRODID:-//Noblesville Youth Sports Alliance - ECPv6.15.20//NONSGML v1.0//EN
CALSCALE:GREGORIAN
METHOD:PUBLISH
X-WR-CALNAME:Noblesville Youth Sports Alliance
X-ORIGINAL-URL:https://noblesvillesports.com
X-WR-CALDESC:Events for Noblesville Youth Sports Alliance
REFRESH-INTERVAL;VALUE=DURATION:PT1H
X-Robots-Tag:noindex
X-PUBLISHED-TTL:PT1H
BEGIN:VTIMEZONE
TZID:America/New_York
BEGIN:DAYLIGHT
TZOFFSETFROM:-0500
TZOFFSETTO:-0400
TZNAME:EDT
DTSTART:20220313T070000
END:DAYLIGHT
BEGIN:STANDARD
TZOFFSETFROM:-0400
TZOFFSETTO:-0500
TZNAME:EST
DTSTART:20221106T060000
END:STANDARD
BEGIN:DAYLIGHT
TZOFFSETFROM:-0500
TZOFFSETTO:-0400
TZNAME:EDT
DTSTART:20230312T070000
END:DAYLIGHT
BEGIN:STANDARD
TZOFFSETFROM:-0400
TZOFFSETTO:-0500
TZNAME:EST
DTSTART:20231105T060000
END:STANDARD
BEGIN:DAYLIGHT
TZOFFSETFROM:-0500
TZOFFSETTO:-0400
TZNAME:EDT
DTSTART:20240310T070000
END:DAYLIGHT
BEGIN:STANDARD
TZOFFSETFROM:-0400
TZOFFSETTO:-0500
TZNAME:EST
DTSTART:20241103T060000
END:STANDARD
BEGIN:DAYLIGHT
TZOFFSETFROM:-0500
TZOFFSETTO:-0400
TZNAME:EDT
DTSTART:20250309T070000
END:DAYLIGHT
BEGIN:STANDARD
TZOFFSETFROM:-0400
TZOFFSETTO:-0500
TZNAME:EST
DTSTART:20251102T060000
END:STANDARD
BEGIN:DAYLIGHT
TZOFFSETFROM:-0500
TZOFFSETTO:-0400
TZNAME:EDT
DTSTART:20260308T070000
END:DAYLIGHT
BEGIN:STANDARD
TZOFFSETFROM:-0400
TZOFFSETTO:-0500
TZNAME:EST
DTSTART:20261101T060000
END:STANDARD
BEGIN:DAYLIGHT
TZOFFSETFROM:-0500
TZOFFSETTO:-0400
TZNAME:EDT
DTSTART:20270314T070000
END:DAYLIGHT
BEGIN:STANDARD
TZOFFSETFROM:-0400
TZOFFSETTO:-0500
TZNAME:EST
DTSTART:20271107T060000
END:STANDARD
END:VTIMEZONE
BEGIN:VEVENT
DTSTART;VALUE=DATE:20260323
DTEND;VALUE=DATE:20260326
DTSTAMP:20260424T172336
CREATED:20260225T002214Z
LAST-MODIFIED:20260225T002214Z
UID:419-1774224000-1774483199@noblesvillesports.com
SUMMARY:Noblesville Swim Club - New Swimmer Evaluations
DESCRIPTION:Noblesville Swim Club\nNew Swimmer Evaluations \nMarch 23rd through March 25th\n6:00pm to 7:00pm\nNoblesville High School Pool\nEnter Gate 7 \nInfo:  https://www.gomotionapp.com/team/innsc/page/home
URL:https://noblesvillesports.com/event/noblesville-swim-club-new-swimmer-evaluations/
LOCATION:Noblesville High School\, 18111 Cumberland Rd\, Noblesville\, IN\, 46060\, United States
CATEGORIES:Swimming
END:VEVENT
BEGIN:VEVENT
DTSTART;VALUE=DATE:20250916
DTEND;VALUE=DATE:20251219
DTSTAMP:20260424T172336
CREATED:20241126T012114Z
LAST-MODIFIED:20241126T012114Z
UID:384-1757980800-1766102399@noblesvillesports.com
SUMMARY:Boys & Girls Club Fall Youth Volleyball League
DESCRIPTION:Boys & Girls Club\nFall Youth Volleyball League \nEvery Fall we offer a youth volleyball league for both boys and girls\nGrades K-12th \nRegistration opens: 7/28/25\nRegistration closes: 9/8/25 \nSeason starts: 9/16/25\nSeason ends: 12/18/25 \nRegistration link: https://www.bgcni.org/index.php/boys-girls-club-of-noblesville-community-center#youth-volleyball
URL:https://noblesvillesports.com/event/boys-girls-club-fall-youth-volleyball-league/
LOCATION:Boys & Girls Club of Noblesville\, 1700 Conner Street\, Noblesville\, IN\, 46060
CATEGORIES:Volleyball
END:VEVENT
BEGIN:VEVENT
DTSTART;VALUE=DATE:20250811
DTEND;VALUE=DATE:20251010
DTSTAMP:20260424T172336
CREATED:20250714T013827Z
LAST-MODIFIED:20250714T013827Z
UID:399-1754870400-1760054399@noblesvillesports.com
SUMMARY:Noblesville Youth Baseball Fall Rec
DESCRIPTION:Noblesville Youth Baseball\n2025 Fall Rec \nRec baseball offered for 3 year old through 6th grade. \nRegistration opens: June 16\, 2025\nRegistration closes: July 31\, 2025 \nSeason starts: August 11\, 2025\nSeason ends: October 9\, 2025 \nRegistration link: https://www.noblesvillebaseball.org/
URL:https://noblesvillesports.com/event/noblesville-youth-baseball-fall-rec/
LOCATION:NYB Field of Dreams\, 3025 Westfield Road\, Noblesville\, Indiana\, 46062
CATEGORIES:Baseball
END:VEVENT
BEGIN:VEVENT
DTSTART;VALUE=DATE:20250803
DTEND;VALUE=DATE:20250825
DTSTAMP:20260424T172336
CREATED:20250730T163641Z
LAST-MODIFIED:20250730T163641Z
UID:404-1754179200-1756079999@noblesvillesports.com
SUMMARY:Miller Basketball Academy - Training and Tryouts
DESCRIPTION:MILLER BASKETBALL ACADEMY \nThe Miller Basketball Academy offers basketball training focused on skill development\, teamwork\, and confidence-building for young athletes. Coaches provide a structured and supportive environment where players from 2nd to 6th grade can grow their fundamentals\, improve game IQ\, and prepare for competitive play. Whether your child is new to the game or looking to take their skills to the next level\, Miller Basketball Academy is committed to helping them succeed on and off the court. Additional information can be found below regarding the upcoming Training and Tryout schedule. More information will be sent out as we approach these dates. \nDates: \n\n\n\n\n\n\n\n\n\n\n\nTraining: August 3 & August 10\nTryouts: August 17 & August 24 (YOU MUST ATTEND BOTH SESSIONS\, NO MAKEUPS WILL BE OFFERED)\n\n\n\n\n\n\n\n\n\n\n\nScheduled Times by Grade: \n\n\n\n\n\n\n\n\n\n\n\n2nd\, 3rd\, 4th Grade: 3:00–4:15 PM\n5th & 6th Grade: 4:30–6:00 PM\n***ALL TRAINING SESSIONS AND TRYOUTS WILL BE HELD IN THE NEW AUX GYM AT THE HIGH SCHOOL!***
URL:https://noblesvillesports.com/event/miller-basketball-academy-training-and-tryouts/
LOCATION:Noblesville High School\, 18111 Cumberland Rd\, Noblesville\, IN\, 46060\, United States
CATEGORIES:Basketball
END:VEVENT
BEGIN:VEVENT
DTSTART;VALUE=DATE:20250721
DTEND;VALUE=DATE:20250928
DTSTAMP:20260424T172336
CREATED:20250521T013435Z
LAST-MODIFIED:20250521T013435Z
UID:396-1753056000-1759017599@noblesvillesports.com
SUMMARY:White River Sports - Fall Soccer
DESCRIPTION:White River Sports Soccer\n2025 Fall Soccer for ages 5-13 \n\n\nWhite River Sports offers a soccer program scaled in size and rules to allow participants to focus on the fundamentals of the game as they learn to play. On a weekly basis\, coaches lead players through devotions and prayer\, as we strive to connect every life to Jesus. Our youth soccer leagues are available for participants ages 5-13 and registration will open May 5.\n\n\nRegistration opens: 5/5/2025\nRegistration closes: 7/11/2025 \nSeason starts: 7/21/2025\nSeason ends: 9/27/2025 \nRegistration link: https://wrcc.org/soccer
URL:https://noblesvillesports.com/event/white-river-sports-fall-soccer-3/
LOCATION:White River Sports\, 1685 North 10th Street\, Noblesville\, IN\, 46060\, United States
CATEGORIES:Soccer
END:VEVENT
BEGIN:VEVENT
DTSTART;VALUE=DATE:20250714
DTEND;VALUE=DATE:20250717
DTSTAMP:20260424T172336
CREATED:20250714T014149Z
LAST-MODIFIED:20250714T014149Z
UID:401-1752451200-1752710399@noblesvillesports.com
SUMMARY:Noblesville Youth Baseball - Travel Tryouts
DESCRIPTION:Noblesville Youth Baseball\nFull Time Travel Tryouts \nTryouts will be held July 14-16\, 2025 \nMore information: https://www.noblesvillebaseball.org/program/full-time-travel/11180 \nRegistration link:  https://noblesvillebaseball.leagueapps.com/clubteams/4649238-2026-noblesville-millers-travel-tryouts
URL:https://noblesvillesports.com/event/noblesville-youth-baseball-travel-tryouts/
LOCATION:NYB Field of Dreams\, 3025 Westfield Road\, Noblesville\, Indiana\, 46062
CATEGORIES:Baseball
END:VEVENT
BEGIN:VEVENT
DTSTART;VALUE=DATE:20250501
DTEND;VALUE=DATE:20250601
DTSTAMP:20260424T172336
CREATED:20250219T232946Z
LAST-MODIFIED:20250219T233010Z
UID:392-1746057600-1748735999@noblesvillesports.com
SUMMARY:Noblesville Rugby HS Spring 15s
DESCRIPTION:Noblesville Rugby\nHS Spring 15s \nHS Boys and Girls Spring 15s\n9th – 12th Grade \nRegistration opens: 1/31/25\nRegistration closes: 4/30/25 \nSeason starts: 5/1/25\nSeason ends: 5/31/25 \nRegistration link: https://www.noblesvillerugby.com/news/2025-rugby-spring-season-is-open/18194
URL:https://noblesvillesports.com/event/noblesville-rugby-hs-spring-15s/
LOCATION:Noblesville Rugby Pitch\, 18111 Cumberland Rd\, Noblesville\, IN\, 46060
CATEGORIES:Rugby
END:VEVENT
BEGIN:VEVENT
DTSTART;VALUE=DATE:20250418
DTEND;VALUE=DATE:20250609
DTSTAMP:20260424T172336
CREATED:20241114T145538Z
LAST-MODIFIED:20241114T150553Z
UID:367-1744934400-1749427199@noblesvillesports.com
SUMMARY:Noblesville Youth Baseball Spring/Summer Rec Baseball
DESCRIPTION:Noblesville Youth Baseball\n2025 Spring/Summer Rec \nRec baseball offered for 3 year old through 6th grade. \nRegistration opens: December 15\, 2024\nRegistration closes: March 1\, 2025 \nSeason starts: April 18\, 2025\nSeason ends: June 8\, 2025 (approx.) \nRegistration link: https://www.noblesvillebaseball.org/
URL:https://noblesvillesports.com/event/noblesville-youth-baseball-spring-summer-rec-baseball/
LOCATION:NYB Field of Dreams\, 3025 Westfield Road\, Noblesville\, Indiana\, 46062
CATEGORIES:Baseball
END:VEVENT
BEGIN:VEVENT
DTSTART;VALUE=DATE:20250414
DTEND;VALUE=DATE:20250627
DTSTAMP:20260424T172336
CREATED:20241126T011928Z
LAST-MODIFIED:20241126T011928Z
UID:382-1744588800-1750982399@noblesvillesports.com
SUMMARY:Boys & Girls Club Youth Spring Volleyball League
DESCRIPTION:Boys & Girls Club\nYouth Spring Volleyball League \nEvery spring we offer a youth spring volleyball league for both boys and girls\nGrades K-8th \nRegistration opens: 2/24/25\nRegistration closes: 4/8/25 \nSeason starts: 4/14/25\nSeason ends: 6/26/25 \nRegistration link: https://www.bgcni.org/index.php/boys-girls-club-of-noblesville-community-center#youth-volleyball
URL:https://noblesvillesports.com/event/boys-girls-club-youth-spring-volleyball-league/
LOCATION:Boys & Girls Club of Noblesville\, 1700 Conner Street\, Noblesville\, IN\, 46060
CATEGORIES:Volleyball
END:VEVENT
BEGIN:VEVENT
DTSTART;VALUE=DATE:20250414
DTEND;VALUE=DATE:20250618
DTSTAMP:20260424T172336
CREATED:20250115T011204Z
LAST-MODIFIED:20250115T011329Z
UID:388-1744588800-1750204799@noblesvillesports.com
SUMMARY:Babe Ruth Baseball Spring/Summer Rec Baseball
DESCRIPTION:Noblesville Babe Ruth Baseball\n2025 Spring/Summer Rec \nRec baseball offered for 7th through 12th grade. \nRegistration opens: December 9\, 2024\nRegistration closes: March 16\, 2025 \nSeason starts: April 14\, 2025\nSeason ends: June 17\, 2025 \nRegistration link: https://noblesvillebaberuthbaseball.sportngin.com/register/form/167502974 \n\n\nEvaluations for new to the program athletes will be on March 16th. Aux Gym of NHS.
URL:https://noblesvillesports.com/event/babe-ruth-baseball-spring-summer-rec-baseball/
LOCATION:Noblesville Babe Ruth\, 701 Cicero Rd\, Noblesville\, IN\, 46060
CATEGORIES:Baseball
END:VEVENT
BEGIN:VEVENT
DTSTART;VALUE=DATE:20250106
DTEND;VALUE=DATE:20250315
DTSTAMP:20260424T172336
CREATED:20241126T011520Z
LAST-MODIFIED:20241126T011520Z
UID:380-1736121600-1741996799@noblesvillesports.com
SUMMARY:Boys & Girls Club Winter Cheerleading
DESCRIPTION:Boys & Girls Club\nWinter Cheerleading \nOur winter cheer program is for girls\nGrades K-5th \nRegistration opens: 11/11/24\nRegistration closes: 12/31/24 \nSeason starts: 1/6/25\nSeason ends: 3/14/25 \nRegistration link: https://www.bgcni.org/index.php/boys-girls-club-of-noblesville-community-center#cheerleading
URL:https://noblesvillesports.com/event/boys-girls-club-winter-cheerleading/
LOCATION:Boys & Girls Club of Noblesville\, 1700 Conner Street\, Noblesville\, IN\, 46060
CATEGORIES:Cheerleading
END:VEVENT
BEGIN:VEVENT
DTSTART;VALUE=DATE:20250101
DTEND;VALUE=DATE:20250302
DTSTAMP:20260424T172336
CREATED:20241114T150119Z
LAST-MODIFIED:20241114T150537Z
UID:369-1735689600-1740873599@noblesvillesports.com
SUMMARY:Noblesville Girls Basketball Club - Winter Season 2024-2025
DESCRIPTION:Noblesville Girls Basketball Club\nGirls Basketball Winter Season 2024-2025\nGirls Basketball 3rd Grade through 6th Grade \nOpen to all Noblesville Girls. Returning player and new player tryouts are scheduled on 11/20 at NHS (Aux’s Gym) from 6pm to 730pm. Enter through gate 7. Must register online at www.noblesvillegbc.com \nRegistration opens: November 20\, 2024\nRegistration closes: January 2\, 2025 \nSeason starts: January 1\, 2025\nSeason ends: March 1\, 2025 \nRegistration link: https://www.noblesvillegbc.com/
URL:https://noblesvillesports.com/event/noblesville-girls-basketball-club-winter-season-2024-2025/
LOCATION:Noblesville High School\, 18111 Cumberland Rd\, Noblesville\, IN\, 46060\, United States
CATEGORIES:Basketball
END:VEVENT
BEGIN:VEVENT
DTSTART;VALUE=DATE:20241202
DTEND;VALUE=DATE:20250303
DTSTAMP:20260424T172336
CREATED:20241114T150458Z
LAST-MODIFIED:20241114T150605Z
UID:372-1733097600-1740959999@noblesvillesports.com
SUMMARY:White River Sports -  2024-2025 Basketball
DESCRIPTION:White River Sports – 2024-2025 Basketball \nRec league basketball for kids ages 5-13. \nRegistration opens: 9/2/2024\nRegistration closes: 10/30/2024 \nSeason starts: 12/2/2024\nSeason ends: 3/2/2025 \nRegistration link: https://www.wrcc.org/sports/opp-detail/323625/in-house-basketball/
URL:https://noblesvillesports.com/event/white-river-sports-2024-2025-basketball/
LOCATION:White River Sports\, 1685 North 10th Street\, Noblesville\, IN\, 46060\, United States
CATEGORIES:Basketball
END:VEVENT
BEGIN:VEVENT
DTSTART;VALUE=DATE:20240722
DTEND;VALUE=DATE:20240929
DTSTAMP:20260424T172336
CREATED:20241114T150835Z
LAST-MODIFIED:20241114T150835Z
UID:375-1721606400-1727567999@noblesvillesports.com
SUMMARY:White River Sports - Fall Soccer
DESCRIPTION:White River Sports Soccer\n2024 Fall Soccer for ages 5-13 \nOnce a week practice generally Monday\, Tuesday or Wednesday with games generally limited to Saturday mornings unless weather forces rescheduling. We are a developmental league for players\, coaches and officials. \nRegistration opens: 5/3/2024\nRegistration closes: 7/12/2024 \nSeason starts: 7/22/2024\nSeason ends: 9/28/2024 \nRegistration link: https://www.wrcc.org/sports/opp-detail/322950/soccer/
URL:https://noblesvillesports.com/event/white-river-sports-fall-soccer-2/
LOCATION:White River Sports\, 1685 North 10th Street\, Noblesville\, IN\, 46060\, United States
CATEGORIES:Soccer
END:VEVENT
BEGIN:VEVENT
DTSTART;VALUE=DATE:20240102
DTEND;VALUE=DATE:20240501
DTSTAMP:20260424T172336
CREATED:20230427T174039Z
LAST-MODIFIED:20230628T002307Z
UID:346-1704153600-1714521599@noblesvillesports.com
SUMMARY:Boys & Girls Club High School Basketball
DESCRIPTION:Boys & Girls Club High School Basketball \nRec basketball league offered for grades 9-12. \nRegistration opens: November (exact date TBD)\nRegistration closes: TBD \nSeason starts: January 2024 (exact date TBD)\nSeason ends: TBD \nRegistration link: https://bgcni.org/index.php/boys-girls-club-of-noblesville-community-center
URL:https://noblesvillesports.com/event/boys-girls-club-high-school-basketball/
LOCATION:Boys & Girls Club of Noblesville\, 1700 Conner Street\, Noblesville\, IN\, 46060
CATEGORIES:Basketball
END:VEVENT
BEGIN:VEVENT
DTSTART;VALUE=DATE:20240101
DTEND;VALUE=DATE:20240601
DTSTAMP:20260424T172336
CREATED:20240119T141214Z
LAST-MODIFIED:20240119T143717Z
UID:364-1704067200-1717199999@noblesvillesports.com
SUMMARY:Noblesville Rugby
DESCRIPTION:Noblesville Rugby \nSpring Rugby Season\nYouth & High School\nGrades 2-12 \nRegistration opens: 1/1/2024\nRegistration closes: 3/31/2024 \nSeason starts: 1/1/2024\nSeason ends: 5/31/2024 \nRegistration link:  https://myaccount.rugbyxplorer.com.au/
URL:https://noblesvillesports.com/event/noblesville-rugby/
LOCATION:Noblesville Rugby Pitch\, 18111 Cumberland Rd\, Noblesville\, IN\, 46060
CATEGORIES:Rugby
END:VEVENT
BEGIN:VEVENT
DTSTART;VALUE=DATE:20231204
DTEND;VALUE=DATE:20240315
DTSTAMP:20260424T172336
CREATED:20230209T192728Z
LAST-MODIFIED:20230427T173440Z
UID:268-1701648000-1710460799@noblesvillesports.com
SUMMARY:Boys & Girls Club Youth Basketball
DESCRIPTION:Boys & Girls Club Youth Winter Basketball \nRec basketball league offered for grades K-12th. \nRegistration opens: 8/28/23\nRegistration closes: 11/22/23 \nSeason starts: 12/4/23\nSeason ends: 3/15/24 \nRegistration link: https://bgcni.org/index.php/boys-girls-club-of-noblesville-community-center
URL:https://noblesvillesports.com/event/boys-girls-club-youth-basketball/
LOCATION:Boys & Girls Club of Noblesville\, 1700 Conner Street\, Noblesville\, IN\, 46060
CATEGORIES:Basketball
END:VEVENT
BEGIN:VEVENT
DTSTART;VALUE=DATE:20231127
DTEND;VALUE=DATE:20240310
DTSTAMP:20260424T172336
CREATED:20230427T172530Z
LAST-MODIFIED:20230628T002320Z
UID:342-1701043200-1710028799@noblesvillesports.com
SUMMARY:White River Sports Winter Basketball
DESCRIPTION:White River Sports Winter Basketball \n2023 Winter Basketball for kids ages 5-13 \nRegistration opens: 8/2/23\nRegistration closes: 10/31/23 \nSeason starts: 11/27/23\nSeason ends: 3/9/24 \nRegistration link: https://www.wrcc.org/sports/
URL:https://noblesvillesports.com/event/white-river-sports-winter-basketball/
LOCATION:White River Sports\, 1685 North 10th Street\, Noblesville\, IN\, 46060\, United States
CATEGORIES:Basketball
END:VEVENT
BEGIN:VEVENT
DTSTART;VALUE=DATE:20230807
DTEND;VALUE=DATE:20231009
DTSTAMP:20260424T172336
CREATED:20230628T003048Z
LAST-MODIFIED:20230628T003315Z
UID:356-1691366400-1696809599@noblesvillesports.com
SUMMARY:Noblesville United Soccer Fall Rec and Rec Plus
DESCRIPTION:Noblesville United Soccer\nFall Rec and Rec Plus \nDid you know that Noblesville United offers both Recreational and Recreational Plus soccer programs? If your son or daughter loves playing the game for fun or is higher in ability and looking for more of a challenge\, we have programs structured for both. \nAges:  Pre-K through High School \nRegistration opens: 5/1/2023\nRegistration closes: 7/15/2023 \nSeason starts: 8/7/2023\nSeason ends: 10/8/2023 \nRegistration link: https://go.teamsnap.com/forms/372614
URL:https://noblesvillesports.com/event/noblesville-united-soccer-fall-soccer/
LOCATION:Noblesville United Soccer\, 8600 East 196th Street\, Noblesville\, IN\, 46062
CATEGORIES:Soccer
END:VEVENT
BEGIN:VEVENT
DTSTART;VALUE=DATE:20230729
DTEND;VALUE=DATE:20231001
DTSTAMP:20260424T172336
CREATED:20230216T175302Z
LAST-MODIFIED:20230628T002340Z
UID:313-1690588800-1696118399@noblesvillesports.com
SUMMARY:Noblesville Elementary Football League Summer/Fall Season
DESCRIPTION:Noblesville Elementary Football League\nSummer/Fall Season \nThe NEFL offers flag football options for Kindergarten through 2nd grade\, and tackle football for 3rd through 6th Grade. Each age group may form an “All Star” team to compete in local tournaments in the post-season. We also offer a robust cheerleading program for Pre-K through 6th Grade. \nAges: Pre-K through 6th Grade \nRegistration opens: 3/1/23\nRegistration closes: 7/28/23 \nSeason starts: 7/29/23\nSeason ends: 9/30/23 \nRegistration link: https://www.nefl.net/
URL:https://noblesvillesports.com/event/noblesville-elementary-football-league-summer-fall-season/
LOCATION:Dr. James A Dillon Park\, 6001 Edenshall Ln\, Noblesville\, IN\, 46062
CATEGORIES:Football
END:VEVENT
BEGIN:VEVENT
DTSTART;VALUE=DATE:20230724
DTEND;VALUE=DATE:20231001
DTSTAMP:20260424T172336
CREATED:20230427T172110Z
LAST-MODIFIED:20230628T002351Z
UID:335-1690156800-1696118399@noblesvillesports.com
SUMMARY:White River Sports Fall Soccer
DESCRIPTION:White River Sports Fall Soccer \n\n\n\n2023 Fall Soccer for kids ages 5-13 \n\nRegistration opens: 5/5/23\nRegistration closes: 7/14/23\n\nSeason starts: 7/24/23\nSeason ends: 9/30/23\n\n\nRegistration link: https://www.wrcc.org/sports/
URL:https://noblesvillesports.com/event/white-river-sports-fall-soccer/
LOCATION:White River Sports\, 1685 North 10th Street\, Noblesville\, IN\, 46060\, United States
CATEGORIES:Soccer
END:VEVENT
BEGIN:VEVENT
DTSTART;VALUE=DATE:20230619
DTEND;VALUE=DATE:20230623
DTSTAMP:20260424T172336
CREATED:20230628T002802Z
LAST-MODIFIED:20230628T003348Z
UID:354-1687132800-1687478399@noblesvillesports.com
SUMMARY:Noblesville United Soccer Camp
DESCRIPTION:Noblesville United Soccer\nIndy Eleven/NUSC Soccer Camp \n\n\nDo you want to get your young soccer player training from Indiana’s professional club? Then continue below to register your child for an upcoming Indy Eleven Camp!\n\n\n6 years old – 14 years old \nRegistration opens: 5/1/2023\nRegistration closes: 6/18/2023 \nSeason starts: 6/19/2023\nSeason ends: 6/22/2023 \nRegistration link: https://indyeleven.formstack.com/forms/nusc_june_19_22_2023 \nNUSC Fields in Noblesville\, Ind. | 8501 East 196th Street\nJune 19-22\, 2023 (Mon.-Thurs.)\n9:00 a.m.-1:00 p.m. daily\nBoys & Girls | Ages 6-14\nRegistration Fee: $130\nAll participants will receive:\nAn Indy Eleven tee-shirt\n2 tickets to an Indy Eleven game – and a discount code for additional tickets\nIndy Eleven PUMA soccer ball (at select locations)
URL:https://noblesvillesports.com/event/noblesville-united-soccer-camp/
LOCATION:Noblesville United Soccer\, 8600 East 196th Street\, Noblesville\, IN\, 46062
CATEGORIES:Soccer
END:VEVENT
BEGIN:VEVENT
DTSTART;VALUE=DATE:20230422
DTEND;VALUE=DATE:20230619
DTSTAMP:20260424T172336
CREATED:20230209T200623Z
LAST-MODIFIED:20230209T201018Z
UID:287-1682121600-1687132799@noblesvillesports.com
SUMMARY:Noblesville Girls Softball Spring/Summer Season
DESCRIPTION:Noblesville Girls Softball\nRec and Travel Season \nAges 4 through 18 \nRegistration opens: 1/1/23\nRegistration closes: 2/28/23 \nSeason starts: 4/22/23\nSeason ends: 6/18/23 \nRegistration link: https://www.noblesvillesoftball.com/
URL:https://noblesvillesports.com/event/noblesville-girls-softball-spring-summer-season/
LOCATION:Noblesville Girls Softball\, 1776 Monument St\, Noblesville\, IN\, 46062
CATEGORIES:Softball
END:VEVENT
BEGIN:VEVENT
DTSTART;VALUE=DATE:20230417
DTEND;VALUE=DATE:20230626
DTSTAMP:20260424T172336
CREATED:20230209T195933Z
LAST-MODIFIED:20230628T002403Z
UID:285-1681689600-1687737599@noblesvillesports.com
SUMMARY:Noblesville Babe Ruth Rec Baseball
DESCRIPTION:Noblesville Babe Ruth Baseball\nSpring/Summer Rec Season \nAges 13 through 18 (Grades 7-12) \nRegistration opens: 1/1/23\nRegistration closes: 3/10/23 \nSeason starts: 4/17/23\nSeason ends: 6/25/23 \nRegistration link: http://www.noblesvillebaberuthbaseball.com \nEvaluations March 11 2-4pm @ NHS\nOpening night April 21st 6pm
URL:https://noblesvillesports.com/event/noblesville-babe-ruth-rec-baseball/
LOCATION:Noblesville Babe Ruth\, 701 Cicero Rd\, Noblesville\, IN\, 46060
CATEGORIES:Baseball
END:VEVENT
BEGIN:VEVENT
DTSTART;VALUE=DATE:20230416
DTEND;VALUE=DATE:20230522
DTSTAMP:20260424T172336
CREATED:20230209T202027Z
LAST-MODIFIED:20230209T202027Z
UID:297-1681603200-1684713599@noblesvillesports.com
SUMMARY:Noblesville United Soccer Spring Season
DESCRIPTION:Noblesville United Soccer\nSpring Rec and Rec Plus \nAges 4 through 18 \nRegistration opens: 1/9/23\nRegistration closes: 3/12/23 \nSeason starts: 4/16/23\nSeason ends: 5/21/23 \nRegistration link: https://noblesvilleunited.com/register-2/
URL:https://noblesvillesports.com/event/noblesville-united-soccer-spring-season/
LOCATION:Noblesville United Soccer\, 8600 East 196th Street\, Noblesville\, IN\, 46062
CATEGORIES:Soccer
END:VEVENT
BEGIN:VEVENT
DTSTART;VALUE=DATE:20230415
DTEND;VALUE=DATE:20230625
DTSTAMP:20260424T172336
CREATED:20230209T195102Z
LAST-MODIFIED:20230211T142606Z
UID:281-1681516800-1687651199@noblesvillesports.com
SUMMARY:Body in Training Track Season
DESCRIPTION:Body in Training Track Club\nTrack & Field season \nAges 5-18 \nRegistration opens: 1/1/23\nRegistration closes: 2/17/23 \nSeason starts: 4/15/23\nSeason ends: 6/24/23\nPost season (optional) events can extend to 7/30/23 \nRegistration link: http://www.bodyintrainingtrack.com/register/
URL:https://noblesvillesports.com/event/body-in-training-track-season/
LOCATION:IN
CATEGORIES:Track & Field
END:VEVENT
BEGIN:VEVENT
DTSTART;VALUE=DATE:20230410
DTEND;VALUE=DATE:20230626
DTSTAMP:20260424T172336
CREATED:20230209T191230Z
LAST-MODIFIED:20230216T180103Z
UID:262-1681084800-1687737599@noblesvillesports.com
SUMMARY:Noblesville Youth Baseball Rec Season
DESCRIPTION:Noblesville Youth Baseball In-House Rec Baseball Season\nSpring/Summer \nAges 3 years old through 6th grade \nRegistration open: 12/15/22\nRegistration closes: 3/1/23 \nSeason starts: 4/10/23\nSeason ends: 6/25/23 (approximate end date) \nRegistration link: https://www.noblesvillebaseball.org/Default.aspx?tabid=473757
URL:https://noblesvillesports.com/event/nyb-in-house-rec-baseball/
LOCATION:NYB Field of Dreams\, 3025 Westfield Road\, Noblesville\, Indiana\, 46062
CATEGORIES:Baseball
END:VEVENT
BEGIN:VEVENT
DTSTART;VALUE=DATE:20230410
DTEND;VALUE=DATE:20230616
DTSTAMP:20260424T172336
CREATED:20230209T193659Z
LAST-MODIFIED:20230216T180233Z
UID:271-1681084800-1686873599@noblesvillesports.com
SUMMARY:Boys & Girls Club Spring Volleyball
DESCRIPTION:Boys & Girls Club Spring Volleyball \nRec volleyball league for grades K-8th \nRegistration opens: 2/27/23\nRegistration closes: 4/4/23 \nSeason starts: 4/10/23\nSeason ends: 6/15/23 \nRegistration link: https://bgcni.org/index.php/boys-girls-club-of-noblesville-community-center
URL:https://noblesvillesports.com/event/boys-girls-club-spring-volleyball/
LOCATION:Boys & Girls Club of Noblesville\, 1700 Conner Street\, Noblesville\, IN\, 46060
CATEGORIES:Volleyball
END:VEVENT
BEGIN:VEVENT
DTSTART;VALUE=DATE:20230403
DTEND;VALUE=DATE:20230716
DTSTAMP:20260424T172336
CREATED:20230215T220001Z
LAST-MODIFIED:20230628T002419Z
UID:309-1680480000-1689465599@noblesvillesports.com
SUMMARY:Noblesville Swim Club - Summer Long Course
DESCRIPTION:Noblesville Swim Club\nSummer Long Course \nAges 6-18 \nRegistration opens: 4/3/23\nRegistration closes: 4/17/23 \nSeason starts: 4/3/23\nSeason ends: 7/15/23 \n** Evaluations are April 10th OR 11th from 5-6:30 \nRegistration link: http://www.noblesvilleswim.com
URL:https://noblesvillesports.com/event/noblesville-swim-club-summer-long-course/
LOCATION:Forest Park Aquatic Center\, 1077 Cicero Rd\, Noblesville\, IN\, 46060
CATEGORIES:Swimming
END:VEVENT
BEGIN:VEVENT
DTSTART;VALUE=DATE:20230318
DTEND;VALUE=DATE:20230530
DTSTAMP:20260424T172336
CREATED:20230314T233737Z
LAST-MODIFIED:20230628T002436Z
UID:291-1679097600-1685404799@noblesvillesports.com
SUMMARY:Noblesville Boys Rugby
DESCRIPTION:Noblesville Boys Rugby\nSpring 15s \nAge: High School \nRegistration opens: 3/14/23\nRegistration closes: 5/1/23 \nSeason starts: 3/18/23\nSeason ends: 5/29/23 \nRegistration link: http://www.noblesvillerugby.com/
URL:https://noblesvillesports.com/event/noblesville-boys-rugby/
LOCATION:Noblesville Rugby Pitch\, 18111 Cumberland Rd\, Noblesville\, IN\, 46060
CATEGORIES:Rugby
END:VEVENT
END:VCALENDAR