BEGIN:VCALENDAR
VERSION:2.0
PRODID:-//Noblesville Youth Sports Alliance - ECPv6.15.20//NONSGML v1.0//EN
CALSCALE:GREGORIAN
METHOD:PUBLISH
X-ORIGINAL-URL:https://noblesvillesports.com
X-WR-CALDESC:Events for Noblesville Youth Sports Alliance
REFRESH-INTERVAL;VALUE=DURATION:PT1H
X-Robots-Tag:noindex
X-PUBLISHED-TTL:PT1H
BEGIN:VTIMEZONE
TZID:America/New_York
BEGIN:DAYLIGHT
TZOFFSETFROM:-0500
TZOFFSETTO:-0400
TZNAME:EDT
DTSTART:20220313T070000
END:DAYLIGHT
BEGIN:STANDARD
TZOFFSETFROM:-0400
TZOFFSETTO:-0500
TZNAME:EST
DTSTART:20221106T060000
END:STANDARD
BEGIN:DAYLIGHT
TZOFFSETFROM:-0500
TZOFFSETTO:-0400
TZNAME:EDT
DTSTART:20230312T070000
END:DAYLIGHT
BEGIN:STANDARD
TZOFFSETFROM:-0400
TZOFFSETTO:-0500
TZNAME:EST
DTSTART:20231105T060000
END:STANDARD
BEGIN:DAYLIGHT
TZOFFSETFROM:-0500
TZOFFSETTO:-0400
TZNAME:EDT
DTSTART:20240310T070000
END:DAYLIGHT
BEGIN:STANDARD
TZOFFSETFROM:-0400
TZOFFSETTO:-0500
TZNAME:EST
DTSTART:20241103T060000
END:STANDARD
BEGIN:DAYLIGHT
TZOFFSETFROM:-0500
TZOFFSETTO:-0400
TZNAME:EDT
DTSTART:20250309T070000
END:DAYLIGHT
BEGIN:STANDARD
TZOFFSETFROM:-0400
TZOFFSETTO:-0500
TZNAME:EST
DTSTART:20251102T060000
END:STANDARD
BEGIN:DAYLIGHT
TZOFFSETFROM:-0500
TZOFFSETTO:-0400
TZNAME:EDT
DTSTART:20260308T070000
END:DAYLIGHT
BEGIN:STANDARD
TZOFFSETFROM:-0400
TZOFFSETTO:-0500
TZNAME:EST
DTSTART:20261101T060000
END:STANDARD
END:VTIMEZONE
BEGIN:VEVENT
DTSTART;VALUE=DATE:20250501
DTEND;VALUE=DATE:20250601
DTSTAMP:20260424T223543
CREATED:20250219T232946Z
LAST-MODIFIED:20250219T233010Z
UID:392-1746057600-1748735999@noblesvillesports.com
SUMMARY:Noblesville Rugby HS Spring 15s
DESCRIPTION:Noblesville Rugby\nHS Spring 15s \nHS Boys and Girls Spring 15s\n9th – 12th Grade \nRegistration opens: 1/31/25\nRegistration closes: 4/30/25 \nSeason starts: 5/1/25\nSeason ends: 5/31/25 \nRegistration link: https://www.noblesvillerugby.com/news/2025-rugby-spring-season-is-open/18194
URL:https://noblesvillesports.com/event/noblesville-rugby-hs-spring-15s/
LOCATION:Noblesville Rugby Pitch\, 18111 Cumberland Rd\, Noblesville\, IN\, 46060
CATEGORIES:Rugby
END:VEVENT
BEGIN:VEVENT
DTSTART;VALUE=DATE:20240101
DTEND;VALUE=DATE:20240601
DTSTAMP:20260424T223543
CREATED:20240119T141214Z
LAST-MODIFIED:20240119T143717Z
UID:364-1704067200-1717199999@noblesvillesports.com
SUMMARY:Noblesville Rugby
DESCRIPTION:Noblesville Rugby \nSpring Rugby Season\nYouth & High School\nGrades 2-12 \nRegistration opens: 1/1/2024\nRegistration closes: 3/31/2024 \nSeason starts: 1/1/2024\nSeason ends: 5/31/2024 \nRegistration link:  https://myaccount.rugbyxplorer.com.au/
URL:https://noblesvillesports.com/event/noblesville-rugby/
LOCATION:Noblesville Rugby Pitch\, 18111 Cumberland Rd\, Noblesville\, IN\, 46060
CATEGORIES:Rugby
END:VEVENT
BEGIN:VEVENT
DTSTART;VALUE=DATE:20230318
DTEND;VALUE=DATE:20230530
DTSTAMP:20260424T223543
CREATED:20230314T233737Z
LAST-MODIFIED:20230628T002436Z
UID:291-1679097600-1685404799@noblesvillesports.com
SUMMARY:Noblesville Boys Rugby
DESCRIPTION:Noblesville Boys Rugby\nSpring 15s \nAge: High School \nRegistration opens: 3/14/23\nRegistration closes: 5/1/23 \nSeason starts: 3/18/23\nSeason ends: 5/29/23 \nRegistration link: http://www.noblesvillerugby.com/
URL:https://noblesvillesports.com/event/noblesville-boys-rugby/
LOCATION:Noblesville Rugby Pitch\, 18111 Cumberland Rd\, Noblesville\, IN\, 46060
CATEGORIES:Rugby
END:VEVENT
BEGIN:VEVENT
DTSTART;VALUE=DATE:20230314
DTEND;VALUE=DATE:20230530
DTSTAMP:20260424T223543
CREATED:20230314T233901Z
LAST-MODIFIED:20230628T002448Z
UID:329-1678752000-1685404799@noblesvillesports.com
SUMMARY:Noblesville Girls Rugby
DESCRIPTION:Noblesville Girls Rugby\nSpring 15s \nAge: High School \nRegistration opens: 3/14/23\nRegistration closes: 5/1/23 \nSeason starts: 3/14/23\nSeason ends: 5/29/23 \nRegistration link: http://www.noblesvillerugby.com/
URL:https://noblesvillesports.com/event/noblesville-girls-rugby/
LOCATION:Noblesville Rugby Pitch\, 18111 Cumberland Rd\, Noblesville\, IN\, 46060
CATEGORIES:Rugby
END:VEVENT
END:VCALENDAR