BEGIN:VCALENDAR
VERSION:2.0
PRODID:-//Noblesville Youth Sports Alliance - ECPv6.15.20//NONSGML v1.0//EN
CALSCALE:GREGORIAN
METHOD:PUBLISH
X-WR-CALNAME:Noblesville Youth Sports Alliance
X-ORIGINAL-URL:https://noblesvillesports.com
X-WR-CALDESC:Events for Noblesville Youth Sports Alliance
REFRESH-INTERVAL;VALUE=DURATION:PT1H
X-Robots-Tag:noindex
X-PUBLISHED-TTL:PT1H
BEGIN:VTIMEZONE
TZID:America/New_York
BEGIN:DAYLIGHT
TZOFFSETFROM:-0500
TZOFFSETTO:-0400
TZNAME:EDT
DTSTART:20250309T070000
END:DAYLIGHT
BEGIN:STANDARD
TZOFFSETFROM:-0400
TZOFFSETTO:-0500
TZNAME:EST
DTSTART:20251102T060000
END:STANDARD
BEGIN:DAYLIGHT
TZOFFSETFROM:-0500
TZOFFSETTO:-0400
TZNAME:EDT
DTSTART:20260308T070000
END:DAYLIGHT
BEGIN:STANDARD
TZOFFSETFROM:-0400
TZOFFSETTO:-0500
TZNAME:EST
DTSTART:20261101T060000
END:STANDARD
BEGIN:DAYLIGHT
TZOFFSETFROM:-0500
TZOFFSETTO:-0400
TZNAME:EDT
DTSTART:20270314T070000
END:DAYLIGHT
BEGIN:STANDARD
TZOFFSETFROM:-0400
TZOFFSETTO:-0500
TZNAME:EST
DTSTART:20271107T060000
END:STANDARD
END:VTIMEZONE
BEGIN:VEVENT
DTSTART;VALUE=DATE:20260401
DTEND;VALUE=DATE:20260613
DTSTAMP:20260424T114410
CREATED:20251223T180611Z
LAST-MODIFIED:20251223T180611Z
UID:410-1775001600-1781308799@noblesvillesports.com
SUMMARY:Noblesville Youth Baseball - 2026 Spring Rec
DESCRIPTION:Noblesville Youth Baseball – 2026 Spring Rec \nRec baseball offered for 3 year old through 6th grade. \nRegistration opens: December 15\, 2025\nRegistration closes: March 1\, 2026 \nSeason starts: April 1\, 2026\nSeason ends: June 12\, 2026 (approx.) \nRegistration link: https://www.noblesvillebaseball.org/
URL:https://noblesvillesports.com/event/noblesville-youth-baseball-2026-spring-rec/
LOCATION:NYB Field of Dreams\, 3025 Westfield Road\, Noblesville\, Indiana\, 46062
CATEGORIES:Baseball
END:VEVENT
BEGIN:VEVENT
DTSTART;VALUE=DATE:20260413
DTEND;VALUE=DATE:20260618
DTSTAMP:20260424T114410
CREATED:20260224T225753Z
LAST-MODIFIED:20260224T225753Z
UID:417-1776038400-1781740799@noblesvillesports.com
SUMMARY:Babe Ruth Baseball Spring/Summer Rec Baseball
DESCRIPTION:Noblesville Babe Ruth Baseball\n2026 Spring/Summer Rec \nRec baseball offered for 7th through 12th grade. \nRegistration opens: 1/1/26\nRegistration closes: 3/21/26 \nSeason starts: 4/13/26\nSeason ends: 6/17/26 \nRegistration link: https://noblesvillebaberuthbaseball.sportsengine-prelive.com/ \n\n\nEvaluations for new to the program athletes will be on March 16th. Aux Gym of NHS.
URL:https://noblesvillesports.com/event/babe-ruth-baseball-spring-summer-rec-baseball-2/
LOCATION:Noblesville Babe Ruth\, 701 Cicero Rd\, Noblesville\, IN\, 46060
CATEGORIES:Baseball
END:VEVENT
BEGIN:VEVENT
DTSTART;VALUE=DATE:20260413
DTEND;VALUE=DATE:20260619
DTSTAMP:20260424T114410
CREATED:20260224T225014Z
LAST-MODIFIED:20260224T225014Z
UID:413-1776038400-1781827199@noblesvillesports.com
SUMMARY:Boys & Girls Club Youth Spring Volleyball League
DESCRIPTION:Boys & Girls Club\nYouth Spring Volleyball League \nYouth spring volleyball league for both boys and girls\nGrades K-12th \nRegistration opens: 2/24/26\nRegistration closes: 4/9/26 \nSeason starts: 4/13/26\nSeason ends: 6/18/26 \nRegistration link: https://www.bgcni.org/index.php/boys-girls-club-of-noblesville-community-center#youth-volleyball
URL:https://noblesvillesports.com/event/boys-girls-club-youth-spring-volleyball-league-2/
LOCATION:Boys & Girls Club of Noblesville\, 1700 Conner Street\, Noblesville\, IN\, 46060
CATEGORIES:Volleyball
END:VEVENT
END:VCALENDAR